BEGIN:VCALENDAR
VERSION:2.0
PRODID:-//Plone.org//NONSGML plone.app.event//EN
X-WR-TIMEZONE:Europe/Rome
BEGIN:VEVENT
SUMMARY:Convegno: Per un welfare della creativita
DTSTART;TZID=CET:20071214T093000
DTEND;TZID=CET:20071214T180500
DTSTAMP:20260420T091609Z
UID:94b2169dd67a48ec8c726bc80619b2f5@plone6
CATEGORIES:Convegno
CONTACT:http://linux-club.org/node/2682
CREATED:20151114T172306Z
DESCRIPTION:Roma\, s’avanza un nuovo editore: il territorioPER UN WELFAR
 E DELLA CREATIVITA’ E DELL’INNOVAZIONE
LAST-MODIFIED:20151130T192918Z
LOCATION:Roma - Via Salaria 113 - Centro Congressi Università “La Sapie
 nza”
URL:https://fhf.it/events/convegno-per-un-welfare-della-creativita
END:VEVENT
BEGIN:VTIMEZONE
TZID:CET
X-LIC-LOCATION:CET
BEGIN:STANDARD
DTSTART:20071028T020000
TZNAME:CET
TZOFFSETFROM:+0200
TZOFFSETTO:+0100
END:STANDARD
END:VTIMEZONE
END:VCALENDAR
